BEGIN:VCALENDAR
VERSION:2.0
PRODID:-//South Alabama Homeschooling - ECPv6.15.20//NONSGML v1.0//EN
CALSCALE:GREGORIAN
METHOD:PUBLISH
X-WR-CALNAME:South Alabama Homeschooling
X-ORIGINAL-URL:https://southalabamahomeschooling.com
X-WR-CALDESC:Events for South Alabama Homeschooling
REFRESH-INTERVAL;VALUE=DURATION:PT1H
X-Robots-Tag:noindex
X-PUBLISHED-TTL:PT1H
BEGIN:VTIMEZONE
TZID:America/Chicago
BEGIN:DAYLIGHT
TZOFFSETFROM:-0600
TZOFFSETTO:-0500
TZNAME:CDT
DTSTART:20220313T080000
END:DAYLIGHT
BEGIN:STANDARD
TZOFFSETFROM:-0500
TZOFFSETTO:-0600
TZNAME:CST
DTSTART:20221106T070000
END:STANDARD
BEGIN:DAYLIGHT
TZOFFSETFROM:-0600
TZOFFSETTO:-0500
TZNAME:CDT
DTSTART:20230312T080000
END:DAYLIGHT
BEGIN:STANDARD
TZOFFSETFROM:-0500
TZOFFSETTO:-0600
TZNAME:CST
DTSTART:20231105T070000
END:STANDARD
BEGIN:DAYLIGHT
TZOFFSETFROM:-0600
TZOFFSETTO:-0500
TZNAME:CDT
DTSTART:20240310T080000
END:DAYLIGHT
BEGIN:STANDARD
TZOFFSETFROM:-0500
TZOFFSETTO:-0600
TZNAME:CST
DTSTART:20241103T070000
END:STANDARD
END:VTIMEZONE
BEGIN:VEVENT
DTSTART;TZID=America/Chicago:20230906T100000
DTEND;TZID=America/Chicago:20230906T104500
DTSTAMP:20260420T025348
CREATED:20230905T215434Z
LAST-MODIFIED:20230905T215434Z
UID:2137-1693994400-1693997100@southalabamahomeschooling.com
SUMMARY:Flower Power
DESCRIPTION:FLOWER POWER> bringing kids science explorations to Gather!\nJoin us for a close up investigation to learn the parts of a plant\, what plants need & how they get it!\nWe will be dissecting some power packed Zinnia plants and flowers! You’ll harvest seeds to plant and take home.\nJoin us in this fun hands on 3 part Science Class with Instructor Mrs. Andrea Timerlake\, a local mom\, photographer & former teacher.\n$30 for 3 classes (9/6\, 9/13\, 9/20)\nScan the QR code to PAY. Please pay with paypal or cash on the day of class.\nMust register in advance. Complete this quick form: https://forms.gle/SxwBM3Xy9Koc82E97\nPLAY? 15 minutes of playtime is included in this class! 10:45-11AM.\nTo stay and play longer- please see Gather hosts for more info.
URL:https://southalabamahomeschooling.com/event/flower-power/
LOCATION:Gather Kids Place\, 4358 Midmost Drive Suite A\, Mobile\, AL\, 36609\, United States
CATEGORIES:Science
ATTACH;FMTTYPE=image/jpeg:https://southalabamahomeschooling.com/wp-content/uploads/2023/09/Flower-Power.jpg
ORGANIZER;CN="Gather Kids Place":MAILTO:gatherfamilychurch@gmail.com
END:VEVENT
BEGIN:VEVENT
DTSTART;TZID=America/Chicago:20230829T170000
DTEND;TZID=America/Chicago:20230829T210000
DTSTAMP:20260420T025348
CREATED:20230827T203539Z
LAST-MODIFIED:20230905T165358Z
UID:1553-1693328400-1693342800@southalabamahomeschooling.com
SUMMARY:Navigators Night @ Newks
DESCRIPTION:Bring your family out for dinner at Newks and support a great cause! A portion of the sales from 5-9 pm will go to Navigators which will be used to buy picnic tables for our lunch area at our Spanish Fort campus.\nOhhh…. it’s also kids eat free night!! Please join us! 
URL:https://southalabamahomeschooling.com/event/navigators-night-newks/
LOCATION:Newk’s Eatery\, 30500 State Highway 181 #132\, Spanish Fort\, AL\, 36527\, United States
CATEGORIES:Fundraiser
ATTACH;FMTTYPE=image/jpeg:https://southalabamahomeschooling.com/wp-content/uploads/2023/08/Navigator-Homeschool-Cooperative-Logo.jpg
ORGANIZER;CN="Navigators Homeschool Cooperative":MAILTO:navigatorshomeschoolcoop@gmail.com
END:VEVENT
END:VCALENDAR