BEGIN:VCALENDAR
VERSION:2.0
PRODID:-//South Alabama Homeschooling - ECPv6.15.20//NONSGML v1.0//EN
CALSCALE:GREGORIAN
METHOD:PUBLISH
X-WR-CALNAME:South Alabama Homeschooling
X-ORIGINAL-URL:https://southalabamahomeschooling.com
X-WR-CALDESC:Events for South Alabama Homeschooling
REFRESH-INTERVAL;VALUE=DURATION:PT1H
X-Robots-Tag:noindex
X-PUBLISHED-TTL:PT1H
BEGIN:VTIMEZONE
TZID:America/New_York
BEGIN:DAYLIGHT
TZOFFSETFROM:-0500
TZOFFSETTO:-0400
TZNAME:EDT
DTSTART:20230312T070000
END:DAYLIGHT
BEGIN:STANDARD
TZOFFSETFROM:-0400
TZOFFSETTO:-0500
TZNAME:EST
DTSTART:20231105T060000
END:STANDARD
BEGIN:DAYLIGHT
TZOFFSETFROM:-0500
TZOFFSETTO:-0400
TZNAME:EDT
DTSTART:20240310T070000
END:DAYLIGHT
BEGIN:STANDARD
TZOFFSETFROM:-0400
TZOFFSETTO:-0500
TZNAME:EST
DTSTART:20241103T060000
END:STANDARD
BEGIN:DAYLIGHT
TZOFFSETFROM:-0500
TZOFFSETTO:-0400
TZNAME:EDT
DTSTART:20250309T070000
END:DAYLIGHT
BEGIN:STANDARD
TZOFFSETFROM:-0400
TZOFFSETTO:-0500
TZNAME:EST
DTSTART:20251102T060000
END:STANDARD
END:VTIMEZONE
BEGIN:VEVENT
DTSTART;TZID=America/New_York:20240221T120000
DTEND;TZID=America/New_York:20240221T140000
DTSTAMP:20260419T124801
CREATED:20230905T192026Z
LAST-MODIFIED:20230905T192026Z
UID:2114-1708516800-1708524000@southalabamahomeschooling.com
SUMMARY:Homeschooling at the Aquarium Feb 2024
DESCRIPTION:Ripley’s Aquarium offers special programs for all home education students. Programs are offered both in person and virtually. Please check the dates below for Ripley’s exciting and educational opportunities! \nReady for an adventure? Walk-up discounts are offered at $10.99 +tax per student and immediate siblings living in the same household (minors)\, $19.99 +tax/ teaching parents. You must provide either a letter of intent\, attendance record\, or homeschool ID card upon admission to receive this discount. \nCreate a homeschool ID \nOn February 21\, 2024\, the theme is Weather/Climate. \nHave you ever wondered where rain\, storms\, or snow come from? Or thought about the difference between weather and climate? Come and learn the answer to these questions and more as we explore these topics. \nReservations must be made 72 hours in advance of the program date for both-in person and virtual programs. Please note that each program will have a cap and this may be reached prior to the 72 hour mark. \nTo reserve your spot\, please book in advance. \nHomeschool families with annual passes may attend programs for $6.00 + tax per child (grades K–8th). \nHomeschool families with annual passes may attend labs for $8.00 + tax per child (ages 9 and over).
URL:https://southalabamahomeschooling.com/event/homeschooling-at-the-aquarium-feb-2024/
LOCATION:Ripley’s Aquarium of the Smokies\, 88 River Rd\, Gatlinburg\, TN\, 37738\, United States
CATEGORIES:Homeschool Days
ATTACH;FMTTYPE=image/png:https://southalabamahomeschooling.com/wp-content/uploads/2023/09/Ripleys_Header_Logo_AQUARIUM_THE-SMOKIES.png
ORGANIZER;CN="Ripley's Aquarium of the Smokies":MAILTO:aquariumofthesmokies@ripleys.com
END:VEVENT
END:VCALENDAR