BEGIN:VCALENDAR
VERSION:2.0
PRODID:-//South Alabama Homeschooling - ECPv6.15.20//NONSGML v1.0//EN
CALSCALE:GREGORIAN
METHOD:PUBLISH
X-WR-CALNAME:South Alabama Homeschooling
X-ORIGINAL-URL:https://southalabamahomeschooling.com
X-WR-CALDESC:Events for South Alabama Homeschooling
REFRESH-INTERVAL;VALUE=DURATION:PT1H
X-Robots-Tag:noindex
X-PUBLISHED-TTL:PT1H
BEGIN:VTIMEZONE
TZID:America/Chicago
BEGIN:DAYLIGHT
TZOFFSETFROM:-0600
TZOFFSETTO:-0500
TZNAME:CDT
DTSTART:20220313T080000
END:DAYLIGHT
BEGIN:STANDARD
TZOFFSETFROM:-0500
TZOFFSETTO:-0600
TZNAME:CST
DTSTART:20221106T070000
END:STANDARD
BEGIN:DAYLIGHT
TZOFFSETFROM:-0600
TZOFFSETTO:-0500
TZNAME:CDT
DTSTART:20230312T080000
END:DAYLIGHT
BEGIN:STANDARD
TZOFFSETFROM:-0500
TZOFFSETTO:-0600
TZNAME:CST
DTSTART:20231105T070000
END:STANDARD
BEGIN:DAYLIGHT
TZOFFSETFROM:-0600
TZOFFSETTO:-0500
TZNAME:CDT
DTSTART:20240310T080000
END:DAYLIGHT
BEGIN:STANDARD
TZOFFSETFROM:-0500
TZOFFSETTO:-0600
TZNAME:CST
DTSTART:20241103T070000
END:STANDARD
END:VTIMEZONE
BEGIN:VEVENT
DTSTART;TZID=America/Chicago:20231202T100000
DTEND;TZID=America/Chicago:20231202T130000
DTSTAMP:20260419T081436
CREATED:20230905T223928Z
LAST-MODIFIED:20230905T223928Z
UID:2174-1701511200-1701522000@southalabamahomeschooling.com
SUMMARY:Kidprenuer Winter Market 2023
DESCRIPTION:The KIDPRENEUR FAIR IS JUST AROUND THE CORNER\nThe Homeschool Kidpreneur Arts and Crafts Festival will transform into a Winter Market this December!\nWith the goal of getting more buyers to come check out all the items\, we are hosting this event on a Saturday Morning.\nDate: December 2nd\, 10am-1pm\nLocation: Calvary Chapel Mobile\n4932 Tufts Road\nCost: $5 per seller/family.\nThere will be two sellers per table.\nTag your friends below to join us this year!!\nClick the link below to register as a vendor!\nhttps://forms.gle/wdSo5ZezapEeRdw19\nYou can send payment to\nhttps://www.paypal.me/BrianneSternad
URL:https://southalabamahomeschooling.com/event/kidprenuer-winter-market-2023/
LOCATION:Calvary Chapel Mobile\, 4932 Tufts Road\, Mobile\, AL\, 36619\, United States
CATEGORIES:Art
ATTACH;FMTTYPE=image/png:https://southalabamahomeschooling.com/wp-content/uploads/2023/09/Kidprenuer-Winter-Market.png
END:VEVENT
END:VCALENDAR