BEGIN:VCALENDAR
VERSION:2.0
PRODID:-//South Alabama Homeschooling - ECPv6.15.20//NONSGML v1.0//EN
CALSCALE:GREGORIAN
METHOD:PUBLISH
X-ORIGINAL-URL:https://southalabamahomeschooling.com
X-WR-CALDESC:Events for South Alabama Homeschooling
REFRESH-INTERVAL;VALUE=DURATION:PT1H
X-Robots-Tag:noindex
X-PUBLISHED-TTL:PT1H
BEGIN:VTIMEZONE
TZID:America/Chicago
BEGIN:DAYLIGHT
TZOFFSETFROM:-0600
TZOFFSETTO:-0500
TZNAME:CDT
DTSTART:20220313T080000
END:DAYLIGHT
BEGIN:STANDARD
TZOFFSETFROM:-0500
TZOFFSETTO:-0600
TZNAME:CST
DTSTART:20221106T070000
END:STANDARD
BEGIN:DAYLIGHT
TZOFFSETFROM:-0600
TZOFFSETTO:-0500
TZNAME:CDT
DTSTART:20230312T080000
END:DAYLIGHT
BEGIN:STANDARD
TZOFFSETFROM:-0500
TZOFFSETTO:-0600
TZNAME:CST
DTSTART:20231105T070000
END:STANDARD
BEGIN:DAYLIGHT
TZOFFSETFROM:-0600
TZOFFSETTO:-0500
TZNAME:CDT
DTSTART:20240310T080000
END:DAYLIGHT
BEGIN:STANDARD
TZOFFSETFROM:-0500
TZOFFSETTO:-0600
TZNAME:CST
DTSTART:20241103T070000
END:STANDARD
END:VTIMEZONE
BEGIN:VEVENT
DTSTART;TZID=America/Chicago:20230915T090000
DTEND;TZID=America/Chicago:20230915T170000
DTSTAMP:20260419T232907
CREATED:20230905T231414Z
LAST-MODIFIED:20230905T231414Z
UID:2188-1694768400-1694797200@southalabamahomeschooling.com
SUMMARY:Gulf Breeze Zoo Homeschool Day 2023
DESCRIPTION:Join the Gulf Breeze Zoo for a day of learning a discovery specifically for homeschool students. \nOn Friday\, September 15\, homeschool families can experience a full day of special education programming at the Gulf Breeze Zoo where the classroom will come to life with interactive programs in an exciting learning environment. \nHomeschool Day programs are designed specifically for children of all ages to encourage homeschool students to learn about the importance of conservation through the exploration of the world of animals. The day is full of educational programs that feature live animal presentations\, hands-on activities\, animal artifacts\, and train rides through our 30-acre animal preserve where rhinos\, orangutans\, gorillas\, and more roam free. \n$11 Students\n$17 Chaperone \nIncludes unlimited train rides. \nPurchase tickets at the gate.
URL:https://southalabamahomeschooling.com/event/gulf-breeze-zoo-homeschool-day-2023/
LOCATION:Gulf Breeze Zoo\, 5701 Gulf Breeze Parkway\, Gulf Breeze\, FL\, 32563\, United States
CATEGORIES:Homeschool Days
ATTACH;FMTTYPE=image/jpeg:https://southalabamahomeschooling.com/wp-content/uploads/2023/09/GBZ_2023_HomeSchoolDay.jpg
END:VEVENT
BEGIN:VEVENT
DTSTART;TZID=America/Chicago:20230915T100000
DTEND;TZID=America/Chicago:20230915T120000
DTSTAMP:20260419T232907
CREATED:20230905T222841Z
LAST-MODIFIED:20230905T222841Z
UID:2167-1694772000-1694779200@southalabamahomeschooling.com
SUMMARY:SAH PE Skate Sept 15 2023
DESCRIPTION:Dreamland Skate Center\n5672 Three Notch Rd\, Mobile\, AL 36619\n10am to noon\nAll ages welcome\n$5 per skater\nOpen to all homeschoolers!
URL:https://southalabamahomeschooling.com/event/sah-pe-skate-sept-15-2023/
LOCATION:Dreamland Skate Center\, 5672 Three Notch Rd\, Mobile\, AL\, Mobile\, United States
CATEGORIES:Physical Activity
ATTACH;FMTTYPE=image/webp:https://southalabamahomeschooling.com/wp-content/uploads/2023/09/dreamland-skate-center.webp
END:VEVENT
BEGIN:VEVENT
DTSTART;TZID=America/Chicago:20230915T113000
DTEND;TZID=America/Chicago:20230915T121500
DTSTAMP:20260419T232907
CREATED:20230905T220207Z
LAST-MODIFIED:20230905T220207Z
UID:2145-1694777400-1694780100@southalabamahomeschooling.com
SUMMARY:Studio Pure Art Fall Mixed Media
DESCRIPTION:Kids’ Art Classes will be held at Gather Community Center (4358 Midmost Drive Suite A Mobile\, AL) in our “Maker Room” up front and will be taught by local mom and Studio Pure artist\, Ms. Elsa!\n\nFriday\, September 15 @ 11:30 a.m.-12:15 p.m: Preschool Art – Fall Mixed Media\nIn this 45-minute class\, children ages 2-5 will create mixed-media art with a fall theme. Cost: $15 per child.\n\n**Please complete the registration form and send payment three days prior to your chosen class start date in order to reserve your seat.***\n**Open play is paid separately and is not included in the price of the class. Open play charges should be paid directly to Gather Kids Place**\n*Must have a minimum of 4 participants to hold class. Maximum class size 14 people. (Paint pouring max 10)
URL:https://southalabamahomeschooling.com/event/studio-pure-art-fall-mixed-media/
LOCATION:Gather Kids Place\, 4358 Midmost Drive Suite A\, Mobile\, AL\, 36609\, United States
CATEGORIES:Art
ATTACH;FMTTYPE=image/jpeg:https://southalabamahomeschooling.com/wp-content/uploads/2023/09/Studio-Pure-Art-ad.jpg
ORGANIZER;CN="Studio Pure Art":MAILTO:studiopure.elsa@gmail.com
END:VEVENT
END:VCALENDAR