BEGIN:VCALENDAR
VERSION:2.0
PRODID:-//South Alabama Homeschooling - ECPv6.15.20//NONSGML v1.0//EN
CALSCALE:GREGORIAN
METHOD:PUBLISH
X-WR-CALNAME:South Alabama Homeschooling
X-ORIGINAL-URL:https://southalabamahomeschooling.com
X-WR-CALDESC:Events for South Alabama Homeschooling
REFRESH-INTERVAL;VALUE=DURATION:PT1H
X-Robots-Tag:noindex
X-PUBLISHED-TTL:PT1H
BEGIN:VTIMEZONE
TZID:America/Chicago
BEGIN:DAYLIGHT
TZOFFSETFROM:-0600
TZOFFSETTO:-0500
TZNAME:CDT
DTSTART:20220313T080000
END:DAYLIGHT
BEGIN:STANDARD
TZOFFSETFROM:-0500
TZOFFSETTO:-0600
TZNAME:CST
DTSTART:20221106T070000
END:STANDARD
BEGIN:DAYLIGHT
TZOFFSETFROM:-0600
TZOFFSETTO:-0500
TZNAME:CDT
DTSTART:20230312T080000
END:DAYLIGHT
BEGIN:STANDARD
TZOFFSETFROM:-0500
TZOFFSETTO:-0600
TZNAME:CST
DTSTART:20231105T070000
END:STANDARD
BEGIN:DAYLIGHT
TZOFFSETFROM:-0600
TZOFFSETTO:-0500
TZNAME:CDT
DTSTART:20240310T080000
END:DAYLIGHT
BEGIN:STANDARD
TZOFFSETFROM:-0500
TZOFFSETTO:-0600
TZNAME:CST
DTSTART:20241103T070000
END:STANDARD
END:VTIMEZONE
BEGIN:VEVENT
DTSTART;TZID=America/Chicago:20230914T103000
DTEND;TZID=America/Chicago:20230914T113000
DTSTAMP:20260420T010602
CREATED:20230905T222506Z
LAST-MODIFIED:20230905T222506Z
UID:2162-1694687400-1694691000@southalabamahomeschooling.com
SUMMARY:Craft and Story Time Sept 14 2023
DESCRIPTION:The Grand Bay Library will be sharing a craft project and story time with the children. This week’s theme is hummingbirds.
URL:https://southalabamahomeschooling.com/event/craft-and-story-time-sept-14-2023/
LOCATION:Grand Bay Community Center\, 11610 US-90\, Grand Bay\, AL\, 36541\, United States
CATEGORIES:Art
ATTACH;FMTTYPE=image/jpeg:https://southalabamahomeschooling.com/wp-content/uploads/2023/09/GBCC-Art.jpg
ORGANIZER;CN="Grand Bay Community Center":MAILTO:grandbaycommunitycenter@gmail.com
END:VEVENT
END:VCALENDAR